BEGIN:VCALENDAR
VERSION:2.0
PRODID:-//MSDUK - ECPv6.7.0//NONSGML v1.0//EN
CALSCALE:GREGORIAN
METHOD:PUBLISH
X-ORIGINAL-URL:https://www.msduk.org.uk
X-WR-CALDESC:Events for MSDUK
REFRESH-INTERVAL;VALUE=DURATION:PT1H
X-Robots-Tag:noindex
X-PUBLISHED-TTL:PT1H
BEGIN:VTIMEZONE
TZID:Europe/London
BEGIN:DAYLIGHT
TZOFFSETFROM:+0000
TZOFFSETTO:+0100
TZNAME:BST
DTSTART:20250330T010000
END:DAYLIGHT
BEGIN:STANDARD
TZOFFSETFROM:+0100
TZOFFSETTO:+0000
TZNAME:GMT
DTSTART:20251026T010000
END:STANDARD
BEGIN:DAYLIGHT
TZOFFSETFROM:+0000
TZOFFSETTO:+0100
TZNAME:BST
DTSTART:20260329T010000
END:DAYLIGHT
BEGIN:STANDARD
TZOFFSETFROM:+0100
TZOFFSETTO:+0000
TZNAME:GMT
DTSTART:20261025T010000
END:STANDARD
TZID:UTC
BEGIN:STANDARD
TZOFFSETFROM:+0000
TZOFFSETTO:+0000
TZNAME:UTC
DTSTART:20230101T000000
END:STANDARD
END:VTIMEZONE
BEGIN:VEVENT
DTSTART;TZID=Europe/London:20260326T140000
DTEND;TZID=Europe/London:20260326T153000
DTSTAMP:20260421T145410
CREATED:20260306T092528Z
LAST-MODIFIED:20260306T092531Z
UID:7643-1774533600-1774539000@www.msduk.org.uk
SUMMARY:Interactive Bid Writing & Tendering Webinar
DESCRIPTION:Give your business the structure\, confidence\, and tools to submit stronger bids in 2026.
URL:https://www.msduk.org.uk/msdukevent/interactive-bid-writing-tendering-webinar/
CATEGORIES:Knowledge Hub
ATTACH;FMTTYPE=image/webp:https://www.msduk.org.uk/wp-content/uploads/2026/03/image-2.webp
END:VEVENT
BEGIN:VEVENT
DTSTART;TZID=Europe/London:20250821T093000
DTEND;TZID=Europe/London:20250821T103000
DTSTAMP:20260421T145410
CREATED:20250813T131219Z
LAST-MODIFIED:20250814T095109Z
UID:6891-1755768600-1755772200@www.msduk.org.uk
SUMMARY:Ask Me Anything Session: Helping SMEs Win
DESCRIPTION:This workshop will look at the key elements that make or break your approach to large corporations. To register contact embadmin@msduk.org.uk
URL:https://www.msduk.org.uk/msdukevent/ask-me-anything-session-helping-smes-win/
CATEGORIES:Knowledge Hub
ATTACH;FMTTYPE=image/png:https://www.msduk.org.uk/wp-content/uploads/2025/08/4.0-MSDUK-LOGO-HIgh-Res-1-scaled.png
END:VEVENT
BEGIN:VEVENT
DTSTART;TZID=UTC:20240613T100000
DTEND;TZID=UTC:20240613T160000
DTSTAMP:20260421T145410
CREATED:20240102T140704Z
LAST-MODIFIED:20240102T140718Z
UID:3870-1718272800-1718294400@www.msduk.org.uk
SUMMARY:Building Business Leaders of the Future (Session 5)
DESCRIPTION:Building Business Leaders of the Future is a Leadership Programme for ambitious Ethnic Minority Business Owners. Everyone is talking about ‘leadership’\, but what does it mean? What makes a good leader? What is the link between leadership and innovation?
URL:https://www.msduk.org.uk/msdukevent/building-business-leaders-of-the-future-session-5/
LOCATION:John Cadbury House\, West Midlands\, United Kingdom\, B4 6QD\, John Cadbury House\, West Midlands\, United Kingdom\, B4 6QD\, West Midlands\, B4 6QD\, United Kingdom
CATEGORIES:Knowledge Hub
ORGANIZER;CN="MSDUK":MAILTO:events@msduk.org.uk
END:VEVENT
BEGIN:VEVENT
DTSTART;TZID=UTC:20240606T100000
DTEND;TZID=UTC:20240606T160000
DTSTAMP:20260421T145410
CREATED:20240102T134733Z
LAST-MODIFIED:20240115T130848Z
UID:3862-1717668000-1717689600@www.msduk.org.uk
SUMMARY:Building Business Leaders of the Future (Session 4)
DESCRIPTION:Building Business Leaders of the Future is a Leadership Programme for ambitious Ethnic Minority Business Owners. Everyone is talking about ‘leadership’\, but what does it mean? What makes a good leader? What is the link between leadership and innovation?
URL:https://www.msduk.org.uk/msdukevent/building-business-leaders-of-the-future-session-4/
LOCATION:John Cadbury House\, West Midlands\, United Kingdom\, B4 6QD\, John Cadbury House\, West Midlands\, United Kingdom\, B4 6QD\, West Midlands\, B4 6QD\, United Kingdom
CATEGORIES:Knowledge Hub
ORGANIZER;CN="MSDUK":MAILTO:events@msduk.org.uk
END:VEVENT
BEGIN:VEVENT
DTSTART;TZID=UTC:20240523T100000
DTEND;TZID=UTC:20240523T160000
DTSTAMP:20260421T145410
CREATED:20240102T134506Z
LAST-MODIFIED:20240111T161023Z
UID:3861-1716458400-1716480000@www.msduk.org.uk
SUMMARY:Building Business Leaders of the Future (Session 3)
DESCRIPTION:Building Business Leaders of the Future is a Leadership Programme for ambitious Ethnic Minority Business Owners. Everyone is talking about ‘leadership’\, but what does it mean? What makes a good leader? What is the link between leadership and innovation?
URL:https://www.msduk.org.uk/msdukevent/building-business-leaders-of-the-future-session-3/
LOCATION:John Cadbury House\, West Midlands\, United Kingdom\, B4 6QD\, John Cadbury House\, West Midlands\, United Kingdom\, B4 6QD\, West Midlands\, B4 6QD\, United Kingdom
CATEGORIES:Knowledge Hub
ORGANIZER;CN="MSDUK":MAILTO:events@msduk.org.uk
END:VEVENT
BEGIN:VEVENT
DTSTART;TZID=UTC:20240502T100000
DTEND;TZID=UTC:20240502T160000
DTSTAMP:20260421T145410
CREATED:20240102T133813Z
LAST-MODIFIED:20240102T134157Z
UID:3860-1714644000-1714665600@www.msduk.org.uk
SUMMARY:Building Business Leaders of the Future (Session 2)
DESCRIPTION:Building Business Leaders of the Future is a Leadership Programme for ambitious Ethnic Minority Business Owners. Everyone is talking about ‘leadership’\, but what does it mean? What makes a good leader? What is the link between leadership and innovation?
URL:https://www.msduk.org.uk/msdukevent/building-business-leaders-of-the-future-session-2/
LOCATION:John Cadbury House\, West Midlands\, United Kingdom\, B4 6QD\, John Cadbury House\, West Midlands\, United Kingdom\, B4 6QD\, West Midlands\, B4 6QD\, United Kingdom
CATEGORIES:Knowledge Hub
ORGANIZER;CN="MSDUK":MAILTO:events@msduk.org.uk
END:VEVENT
BEGIN:VEVENT
DTSTART;TZID=UTC:20240411T100000
DTEND;TZID=UTC:20240411T160000
DTSTAMP:20260421T145410
CREATED:20240102T130957Z
LAST-MODIFIED:20240307T162929Z
UID:3858-1712829600-1712851200@www.msduk.org.uk
SUMMARY:Building Business Leaders of the Future (Session 1)
DESCRIPTION:Building Business Leaders of the Future is a Leadership Programme for ambitious Ethnic Minority Business Owners. Everyone is talking about ‘leadership’\, but what does it mean? What makes a good leader? What is the link between leadership and innovation?
URL:https://www.msduk.org.uk/msdukevent/building-business-leaders-of-the-future-session-1/
LOCATION:John Cadbury House\, West Midlands\, United Kingdom\, B4 6QD\, John Cadbury House\, West Midlands\, United Kingdom\, B4 6QD\, West Midlands\, B4 6QD\, United Kingdom
CATEGORIES:Knowledge Hub
ORGANIZER;CN="MSDUK":MAILTO:events@msduk.org.uk
END:VEVENT
BEGIN:VEVENT
DTSTART;TZID=UTC:20240313T090000
DTEND;TZID=UTC:20240313T150000
DTSTAMP:20260421T145410
CREATED:20240102T130524Z
LAST-MODIFIED:20240102T131306Z
UID:3857-1710320400-1710342000@www.msduk.org.uk
SUMMARY:Pathway to High Growth (Session 4)
DESCRIPTION:The Pathway to High Growth program is a unique opportunity designed for ethnic minority SMEs with a vision for expansion. This hybrid program combines the best of both worlds—two face-to-face training days at the University of Westminster and two virtual learning sessions\, ensuring accessibility and flexibility for participants. Over 4-6 weeks\, committed individuals will engage in 16 hours of immersive learning\, gaining insights into corporate supply chains and requirements. Spaces are limited.
URL:https://www.msduk.org.uk/msdukevent/pathway-to-high-growth-session-4/
LOCATION:University of Westminster\, Greater London\, United Kingdom\, NW1 5LS\, University of Westminster\, Greater London\, NW1 5LS\, United Kingdom
CATEGORIES:Knowledge Hub
ORGANIZER;CN="MSDUK":MAILTO:events@msduk.org.uk
END:VEVENT
BEGIN:VEVENT
DTSTART;TZID=UTC:20240306T090000
DTEND;TZID=UTC:20240306T140000
DTSTAMP:20260421T145410
CREATED:20240110T155233Z
LAST-MODIFIED:20240111T143321Z
UID:3773-1709715600-1709733600@www.msduk.org.uk
SUMMARY:Pathway to High Growth (Session 3)
DESCRIPTION:The Pathway to High Growth program is a unique opportunity designed for ethnic minority SMEs with a vision for expansion. This hybrid program combines the best of both worlds—two face-to-face training days at the University of Westminster and two virtual learning sessions\, ensuring accessibility and flexibility for participants. Over 4-6 weeks\, committed individuals will engage in 16 hours of immersive learning\, gaining insights into corporate supply chains and requirements. Spaces are limited.
URL:https://www.msduk.org.uk/msdukevent/pathway-to-high-growth-session-3/
LOCATION:Virtual
CATEGORIES:Knowledge Hub
ORGANIZER;CN="MSDUK":MAILTO:events@msduk.org.uk
END:VEVENT
BEGIN:VEVENT
DTSTART;TZID=UTC:20240228T090000
DTEND;TZID=UTC:20240228T140000
DTSTAMP:20260421T145410
CREATED:20231219T154946Z
LAST-MODIFIED:20231220T145449Z
UID:3771-1709110800-1709128800@www.msduk.org.uk
SUMMARY:Pathway to High Growth (Session 2)
DESCRIPTION:The Pathway to High Growth program is a unique opportunity designed for ethnic minority SMEs with a vision for expansion. This hybrid program combines the best of both worlds—two face-to-face training days at the University of Westminster and two virtual learning sessions\, ensuring accessibility and flexibility for participants. Over 4-6 weeks\, committed individuals will engage in 16 hours of immersive learning\, gaining insights into corporate supply chains and requirements. Spaces are limited.
URL:https://www.msduk.org.uk/msdukevent/pathway-to-high-growth-session-2/
LOCATION:Virtual
CATEGORIES:Knowledge Hub
ORGANIZER;CN="MSDUK":MAILTO:events@msduk.org.uk
END:VEVENT
BEGIN:VEVENT
DTSTART;TZID=UTC:20240221T090000
DTEND;TZID=UTC:20240221T150000
DTSTAMP:20260421T145410
CREATED:20221119T153108Z
LAST-MODIFIED:20240111T150530Z
UID:3769-1708506000-1708527600@www.msduk.org.uk
SUMMARY:Pathway to High Growth (Session 1)
DESCRIPTION:The Pathway to High Growth program is a unique opportunity designed for ethnic minority SMEs with a vision for expansion. This hybrid program combines the best of both worlds—two face-to-face training days at the University of Westminster and two virtual learning sessions\, ensuring accessibility and flexibility for participants. Over 4-6 weeks\, committed individuals will engage in 16 hours of immersive learning\, gaining insights into corporate supply chains and requirements. Spaces are limited. To apply please contact hinda@msduk.org.uk
URL:https://www.msduk.org.uk/msdukevent/pathway-to-high-growth-session-1/
LOCATION:University of Westminster\, Greater London\, United Kingdom\, NW1 5LS\, University of Westminster\, Greater London\, NW1 5LS\, United Kingdom
CATEGORIES:Knowledge Hub
ORGANIZER;CN="MSDUK":MAILTO:events@msduk.org.uk
END:VEVENT
BEGIN:VEVENT
DTSTART;TZID=UTC:20230916T090000
DTEND;TZID=UTC:20230918T170000
DTSTAMP:20260421T145410
CREATED:20230720T203822Z
LAST-MODIFIED:20230816T035959Z
UID:1949-1694854800-1695056400@www.msduk.org.uk
SUMMARY:MSDUK - Building a High Performing Minority Business
DESCRIPTION:Do you want to build a successful business by learning from a world class business school faculty and global entrepreneurs? MSDUK is delighted to bring together academics and practitioners from Aston Business School\, UK to deliver an exceptional residential programme for minority-owned businesses. Building a High-Performing Minority Business Programme focuses on strategy and implementation to drive results.
URL:https://www.msduk.org.uk/msdukevent/msduk-building-a-high-performing-minority-business/
CATEGORIES:Knowledge Hub
END:VEVENT
END:VCALENDAR