BEGIN:VCALENDAR
VERSION:2.0
PRODID:-//MSDUK - ECPv6.7.0//NONSGML v1.0//EN
CALSCALE:GREGORIAN
METHOD:PUBLISH
X-WR-CALNAME:MSDUK
X-ORIGINAL-URL:https://www.msduk.org.uk
X-WR-CALDESC:Events for MSDUK
REFRESH-INTERVAL;VALUE=DURATION:PT1H
X-Robots-Tag:noindex
X-PUBLISHED-TTL:PT1H
BEGIN:VTIMEZONE
TZID:Europe/London
BEGIN:DAYLIGHT
TZOFFSETFROM:+0000
TZOFFSETTO:+0100
TZNAME:BST
DTSTART:20260329T010000
END:DAYLIGHT
BEGIN:STANDARD
TZOFFSETFROM:+0100
TZOFFSETTO:+0000
TZNAME:GMT
DTSTART:20261025T010000
END:STANDARD
END:VTIMEZONE
BEGIN:VEVENT
DTSTART;TZID=Europe/London:20260326T140000
DTEND;TZID=Europe/London:20260326T153000
DTSTAMP:20260421T182621
CREATED:20260306T092528Z
LAST-MODIFIED:20260306T092531Z
UID:7643-1774533600-1774539000@www.msduk.org.uk
SUMMARY:Interactive Bid Writing & Tendering Webinar
DESCRIPTION:Give your business the structure\, confidence\, and tools to submit stronger bids in 2026.
URL:https://www.msduk.org.uk/msdukevent/interactive-bid-writing-tendering-webinar/
CATEGORIES:Knowledge Hub
ATTACH;FMTTYPE=image/webp:https://www.msduk.org.uk/wp-content/uploads/2026/03/image-2.webp
END:VEVENT
END:VCALENDAR