BEGIN:VCALENDAR
VERSION:2.0
PRODID:-//MSDUK - ECPv6.7.0//NONSGML v1.0//EN
CALSCALE:GREGORIAN
METHOD:PUBLISH
X-ORIGINAL-URL:https://www.msduk.org.uk
X-WR-CALDESC:Events for MSDUK
REFRESH-INTERVAL;VALUE=DURATION:PT1H
X-Robots-Tag:noindex
X-PUBLISHED-TTL:PT1H
BEGIN:VTIMEZONE
TZID:Europe/London
BEGIN:DAYLIGHT
TZOFFSETFROM:+0000
TZOFFSETTO:+0100
TZNAME:BST
DTSTART:20260329T010000
END:DAYLIGHT
BEGIN:STANDARD
TZOFFSETFROM:+0100
TZOFFSETTO:+0000
TZNAME:GMT
DTSTART:20261025T010000
END:STANDARD
END:VTIMEZONE
BEGIN:VEVENT
DTSTART;TZID=Europe/London:20260317T090000
DTEND;TZID=Europe/London:20260317T113000
DTSTAMP:20260419T195032
CREATED:20260227T152324Z
LAST-MODIFIED:20260227T161409Z
UID:7610-1773738000-1773747000@www.msduk.org.uk
SUMMARY:MSDUK International Women's Day 2026
DESCRIPTION:Join us for an inspiring morning of networking\, meaningful conversation\, and a powerful panel celebrating the achievements and leadership of women in business.
URL:https://www.msduk.org.uk/msdukevent/msduk-international-womens-day-2026/
CATEGORIES:Community and Networking Hub
ATTACH;FMTTYPE=image/png:https://www.msduk.org.uk/wp-content/uploads/2026/02/qjqszaxfrspbo89jlpei-scaled.png
END:VEVENT
END:VCALENDAR