BEGIN:VCALENDAR
VERSION:2.0
PRODID:-//MSDUK - ECPv6.7.0//NONSGML v1.0//EN
CALSCALE:GREGORIAN
METHOD:PUBLISH
X-ORIGINAL-URL:https://www.msduk.org.uk
X-WR-CALDESC:Events for MSDUK
REFRESH-INTERVAL;VALUE=DURATION:PT1H
X-Robots-Tag:noindex
X-PUBLISHED-TTL:PT1H
BEGIN:VTIMEZONE
TZID:Europe/London
BEGIN:DAYLIGHT
TZOFFSETFROM:+0000
TZOFFSETTO:+0100
TZNAME:BST
DTSTART:20250330T010000
END:DAYLIGHT
BEGIN:STANDARD
TZOFFSETFROM:+0100
TZOFFSETTO:+0000
TZNAME:GMT
DTSTART:20251026T010000
END:STANDARD
TZID:UTC
BEGIN:STANDARD
TZOFFSETFROM:+0000
TZOFFSETTO:+0000
TZNAME:UTC
DTSTART:20250101T000000
END:STANDARD
END:VTIMEZONE
BEGIN:VEVENT
DTSTART;TZID=Europe/London:20251203T153000
DTEND;TZID=Europe/London:20251203T163000
DTSTAMP:20260419T231905
CREATED:20250209T132900Z
LAST-MODIFIED:20250808T123653Z
UID:5885-1764775800-1764779400@www.msduk.org.uk
SUMMARY:Corporates Monthly Members Forum (MMF)
DESCRIPTION:Join the Corporates Monthly Members Forum (MMF)\, a virtual session where corporate members connect\, share supplier diversity insights\, receive MSDUK updates\, and gain valuable takeaways from corporate presentations. \n\n\n\nMEMBERS ONLY – CONTACT CORPORATE RELATIONS TEAM
URL:https://www.msduk.org.uk/msdukevent/corporates-monthly-members-forum-mmf-10/
CATEGORIES:Community and Networking Hub
ATTACH;FMTTYPE=image/jpeg:https://www.msduk.org.uk/wp-content/uploads/2025/02/4.0-MSDUK-2020-LOGO-scaled.jpg
END:VEVENT
BEGIN:VEVENT
DTSTART;TZID=UTC:20251209T173000
DTEND;TZID=UTC:20251209T210000
DTSTAMP:20260419T231905
CREATED:20240105T135950Z
LAST-MODIFIED:20251027T154635Z
UID:3866-1765301400-1765314000@www.msduk.org.uk
SUMMARY:End of Year Drinks & Networking
DESCRIPTION:Great opportunity to meet fellow members to celebrate and network as 2025 draws to a close.
URL:https://www.msduk.org.uk/msdukevent/end-of-year-networking-drinks/
LOCATION:London\, Greater London\, United Kingdom\, London\, United Kingdom
CATEGORIES:Community and Networking Hub
ATTACH;FMTTYPE=image/jpeg:https://www.msduk.org.uk/wp-content/uploads/2025/02/4.0-MSDUK-2020-LOGO-scaled.jpg
END:VEVENT
END:VCALENDAR